BEGIN:VCALENDAR
VERSION:2.0
PRODID:-//pretix//tickets.devopsdays.org//
BEGIN:VEVENT
UID:pretix-devopsdays-denver-2024-0@tickets.devopsdays.org
DTSTART;VALUE=DATE:20240916
DTEND;VALUE=DATE:20240918
DESCRIPTION:Tickets: https://tickets.devopsdays.org/devopsdays-denver/2024/
 \nOrganizer: DevOpsDays Denver
DTSTAMP:20260422T124446Z
LOCATION:14er Brewing & Beer Garden\, Downtown Denver
SUMMARY:DevOpsDays Rockies 2024
END:VEVENT
END:VCALENDAR
