BEGIN:VCALENDAR
VERSION:2.0
PRODID:-//pretix//tickets.devopsdays.org//
BEGIN:VEVENT
UID:pretix-devopsdays-denver-2026-0@tickets.devopsdays.org
DTSTART;VALUE=DATE:20260922
DTEND;VALUE=DATE:20260924
DESCRIPTION:Tickets: https://tickets.devopsdays.org/devopsdays-denver/2026/
 \nOrganizer: DevOpsDays Denver
DTSTAMP:20260424T123049Z
LOCATION:Bierstadt Lagerhaus\, 2875 Blake St\, Denver\, CO 80205
SUMMARY:DevOpsDays Rockies 2026
END:VEVENT
END:VCALENDAR
