BEGIN:VCALENDAR
VERSION:2.0
PRODID:-//pretix//tickets.devopsdays.org//
BEGIN:VTIMEZONE
TZID:America/Halifax
BEGIN:STANDARD
DTSTART:20001029T030000
RRULE:FREQ=YEARLY;BYDAY=-1SU;BYMONTH=10;UNTIL=20061029T060000Z
TZNAME:AST
TZOFFSETFROM:-0300
TZOFFSETTO:-0400
END:STANDARD
BEGIN:STANDARD
DTSTART:20071104T030000
RRULE:FREQ=YEARLY;BYDAY=1SU;BYMONTH=11
TZNAME:AST
TZOFFSETFROM:-0300
TZOFFSETTO:-0400
END:STANDARD
BEGIN:DAYLIGHT
DTSTART:20000402T030000
RRULE:FREQ=YEARLY;BYDAY=1SU;BYMONTH=4;UNTIL=20060402T070000Z
TZNAME:ADT
TZOFFSETFROM:-0400
TZOFFSETTO:-0300
END:DAYLIGHT
BEGIN:DAYLIGHT
DTSTART:20070311T030000
RRULE:FREQ=YEARLY;BYDAY=2SU;BYMONTH=3
TZNAME:ADT
TZOFFSETFROM:-0400
TZOFFSETTO:-0300
END:DAYLIGHT
END:VTIMEZONE
BEGIN:VEVENT
UID:pretix-devopsdays-halifax-2025-0@tickets.devopsdays.org
DTSTART;TZID=America/Halifax:20250826T080000
DTEND;TZID=America/Halifax:20250827T170000
DESCRIPTION:Tickets: https://tickets.devopsdays.org/devopsdays-halifax/2025
 /\nAdmission: 2025-08-26 7 a.m.\nOrganizer: DevOpsDays Halifax
DTSTAMP:20260421T133900Z
LOCATION:Kenneth C. Rowe Management Building\, Dalhousie University\, Halif
 ax\, NS\, Canada\, 6100 University Ave\, Halifax\, NS B3H 4R2\, Canada
SUMMARY:DevOpsDays Halifax
END:VEVENT
END:VCALENDAR
